BEGIN:VCALENDAR
VERSION:2.0
PRODID:icalendar-ruby
CALSCALE:GREGORIAN
METHOD:PUBLISH
BEGIN:VEVENT
DTSTAMP:20260422T224259Z
UID:1-449773@gglcorlando.org
DTSTART:20260923T230000Z
DTEND:20260924T010000Z
CLASS:PUBLIC
CREATED:20260422T161134
DESCRIPTION: \n 
LAST-MODIFIED:20260422T161134
LOCATION:Via Zoom
SUMMARY:Training in the Word
URL;VALUE=URI:https://www.gglcorlando.org/events/training-in-the-word/2026-
 09-23
ATTACH;FILENAME=2.png;FMTTYPE=image/png:https://dq5pwpg1q8ru0.cloudfront.ne
 t/2023/08/01/17/38/47/0083ebf6-d7ed-44cd-9ba5-808aad41f72c/2.png
END:VEVENT
END:VCALENDAR
